BEGIN:VCALENDAR
VERSION:2.0
PRODID:-//TRUETANTRA - ECPv6.15.20//NONSGML v1.0//EN
CALSCALE:GREGORIAN
METHOD:PUBLISH
X-ORIGINAL-URL:https://truetantra.eu
X-WR-CALDESC:Events for TRUETANTRA
REFRESH-INTERVAL;VALUE=DURATION:PT1H
X-Robots-Tag:noindex
X-PUBLISHED-TTL:PT1H
BEGIN:VTIMEZONE
TZID:Europe/Madrid
BEGIN:DAYLIGHT
TZOFFSETFROM:+0100
TZOFFSETTO:+0200
TZNAME:CEST
DTSTART:20210328T010000
END:DAYLIGHT
BEGIN:STANDARD
TZOFFSETFROM:+0200
TZOFFSETTO:+0100
TZNAME:CET
DTSTART:20211031T010000
END:STANDARD
BEGIN:DAYLIGHT
TZOFFSETFROM:+0100
TZOFFSETTO:+0200
TZNAME:CEST
DTSTART:20220327T010000
END:DAYLIGHT
BEGIN:STANDARD
TZOFFSETFROM:+0200
TZOFFSETTO:+0100
TZNAME:CET
DTSTART:20221030T010000
END:STANDARD
BEGIN:DAYLIGHT
TZOFFSETFROM:+0100
TZOFFSETTO:+0200
TZNAME:CEST
DTSTART:20230326T010000
END:DAYLIGHT
BEGIN:STANDARD
TZOFFSETFROM:+0200
TZOFFSETTO:+0100
TZNAME:CET
DTSTART:20231029T010000
END:STANDARD
BEGIN:DAYLIGHT
TZOFFSETFROM:+0100
TZOFFSETTO:+0200
TZNAME:CEST
DTSTART:20240331T010000
END:DAYLIGHT
BEGIN:STANDARD
TZOFFSETFROM:+0200
TZOFFSETTO:+0100
TZNAME:CET
DTSTART:20241027T010000
END:STANDARD
END:VTIMEZONE
BEGIN:VEVENT
DTSTART;TZID=Europe/Madrid:20230127T080000
DTEND;TZID=Europe/Madrid:20230129T170000
DTSTAMP:20260423T122833
CREATED:20221106T235110Z
LAST-MODIFIED:20221214T161519Z
UID:10000026-1674806400-1675011600@truetantra.eu
SUMMARY:The Principles of LUMINA Energy
DESCRIPTION:Awakening the Healing Power of the Tantric Shaman. The Principles of LUMINA Energy. The Archaic Medicine of Ecstasy & Healing. Life Energy Fields\, \n\n\n\n\nWarsaw / January 27-29 \nLife force energy on the human being is one of the most powerful tools that there is. For centuries shamans\, healers and practitioners of the alchemy and the Hermetics; had developed different methods to elevate the frequency and the vibration of the body. \nThe use of light healing energy on our bodies has been a mystic tradition used for centuries in different metacultures. This time we will explore together different methods\, rituals\, and medicine that goes directly to these structures of healing but also the ancestral ways to generate the joy of being in spiritual ecstasy. \nTo be a channel of energy is one of the most incredible Siddhis that human being we have\, we can access to it very easy. \nSince we have to take in to account the existence of “the Luminous Energy Field (LEF) which contains an archive of all of our personal and ancestral memories\, early- life trauma and wounds from former lifetimes. Imprints of physical trauma are stored in the outermost layer of the LEF.Emotional imprints are stored in the second layer\, soul imprints in the third\, and spiritual imprints in the fourth and deepest layer. \nImprints in the LEF predispose us to follow certain pathways in life; they orchestrate incidents\, experiences\, and the people we attract to ourselves.” (LEF Theory) Take the opportunity to explore and learn archaic medicine to bring the LUMINA knowledge to you \, experience it and sharing it !!! \nPRANA AWARENES \nWe would show to you how we can sense Prana in different levels. To sense is even to see the life force field\, to feel it\, even to perceive by taste. One of the basic premises in Tantra & Shamanism is the energy its density and its manifestations. \nENERGY ANATOMY \nThe prana do not manifest only at the physical body but we have a Subtle system in which this one operates. We will explore this system within the bodies of the being and how this energy interrelate at the levels of energy\, emotion\, spiritual\, almic and Psychic. But also\, we will explore the Supra-Consious system within the elementals and its movement and interpretation\, and how relates to extasis mystic experience \nNO TOUCH\, DANCE & TOUCH \n\n\n\n\n\n\nEnergy is something to feel\, manoeuvre\, transform\, dissolve\, absorbed and interpret PRANA is another process. We would explore ancestral techniques to sustain space\, to relieve and help other ones and us. Prepare yourself to experience out of body life living healing process. \nTHOUGHTS\, INTENTIONS\, REALITIES\, MYSTICISM \nWe will develop different initiations in order to awake and use this energy within different frequencies and with different targets. We will explore Psychomagic &\, Initiated tantric massages\, the use of energy orgasms to liberate\, unblock and dissolve blockages. \nEMOTIONS\, JOY & High Frequency \nJoy and pleasure are of the elements that embrace the development of a high frequency. We will use different methods to connect with it \, but also we will deliver different experiences that will connect you to Joy to enhance an ecstatic spiritual state of consciousness. \nCEREMONIES \nThe art of handling the high positive energy conception involves in different metacultures a diverse range of ceremonies. Be prepared to experience the art to connect\, manifest and dissolve PRANA in a collective way. \n  \nBasic Benefits \nLearn how to stay centered within your own energetic & emotional body. \nAcknowledge the auric field and the system of chakras to interpret relationships\, finance\, health\, work\, etc. \nLumina gives you more love\, acceptance and relaxation to your life and with the other ones. \n\n  \nFor tickets please visit: https://tuiteraz.eu/en/component/jem/event/1765-przebudzenie-uzdrawiajacej-mocy-tantrycznego-szamana-tantrycznej-szamanki-zasady-swietlistej-energii-lumina-starozytna-medycyna-ekstazy-i-uzdrawiania-energetyczne-pole-zycia-warszawa
URL:https://truetantra.eu/events-calendar/the-principles-of-lumina-energy
LOCATION:Warsaw\, Poland
ATTACH;FMTTYPE=image/png:https://truetantra.eu/wp-content/uploads/2022/11/lumina2023-2.png
END:VEVENT
BEGIN:VEVENT
DTSTART;TZID=Europe/Madrid:20221007T200000
DTEND;TZID=Europe/Madrid:20221009T170000
DTSTAMP:20260423T122833
CREATED:20220922T183016Z
LAST-MODIFIED:20220922T183854Z
UID:10000017-1665172800-1665334800@truetantra.eu
SUMMARY:Awakening The Power Of The Tantric Shaman • Disrupting The Path To Awake Intuition
DESCRIPTION:Tantric Powers (Siddhis) and the Mexical Shadow work \nThis is an intensive and residential practicum & training. It is oriented to elevate the frequency two practices shamanism & tantra. Tantra & Shamanism work as a healing science & as a way to elevate consciousness. Both are based in 3 dimensions: the physical body; the astral body and the causal body. In our times\, allopathic medicine is going back to the old wisdom of practices like Ayurveda\, Yoga\, Chinese Medicine\, acupuncture\, natural remedies between other ones. In some aspects\, Science and Supra-Natura are becoming in the middle. \nTantric Shamanistic knowledge combines also both aspects of this middle point. Sacred Sexuality is one of the main aspects and tools that Tantric Shamanism uses to heal\, to connect with the universe and develop the communication with the Supra-Conscious and the Supra-Natura. In this retreat we will explore the power\, knowledge and experience of sexual energy\, ritualism\, and embodied shraman practices and where they can take us. The objective is to awake the Tantric Shaman on you in order that you experience but take the basic knowledge to do it afterwards. \nBasic approach to be covered: \n\nYou will recognize and work the different tantric shamanic rituals and experiences with the purpose to elevate the frequency of yourself; and to awake your intuition as a basic tool to generate an inner supra-conscious awareness or to amplify the power of your Siddhis.\nExperience the power of Ancient Tantra and its tools as a gate to heal and to create a bond with the your own higher-self\, the supra-conscious and the Universes.\nRe-visiting Shamanic roots of Mexican Shadow work in order to unify the self.\nThis Weekend will offer you a practicum spectrum for people that had already experience on both fields\, that they are therapist\, sexologist\, tantricas\, healers or masseurs.\nWe will discover how to create an altered state of mind and also how this experience bond the person to a healing manifested tool.\n\nShamanic-Tantric Rites: \n\nPranic Rite & the Primal Self.\nThe Divine presence of the humans on this universe & the Primal Methods.\nThe body & the senses as the gates to awake the Siddhis.\nThe life force\, sexual energy and the mind; how to activate intuition.\nEnergy Multi-Orgasmia the gate to the ecstasy healing power.\n“Transmutation of the Linage” Water Ceremony.\nThe death and the awkening .shadow of the primitive self…\nTantra Kriya Yoga & Cobra Breath as tools to awake intuition.\nCosmic Dialogue & the First & Second Chakra ( Shadow & Light )\nFire Ceremony\n\nTantra & Shamanism School of Anand Rudra \nThe training consists of 3 certifications\, each with a large amount of credits to collect\, as well as several practice courses (online and two-day) that can be counted as points. Each certification ends with an essay to be written or a practical task to be performed. The aim is to structure this training in a practical and scientific way. \nUnique Training in Which We Will Experience\, Practice and Share Through the Methods of Tantra and Shamanism \nT a n t r a & S h a m a n i s m\, meeting at the root of all knowledge. \nTantra & Shamanism work as a healing science & as a way to elevate consciousness. Both are based in three dimensions: the physical body; the astral body and the causal body. In our times\, allopathic medicine is going back to the old wisdom of practices like Ayurveda\, Yoga\, Chinese Medicine\, acupuncture\, natural remedies between other ones. In some aspects\, Science and Supra-Natura are becoming in the middle. \nTantric Shamanistic knowledge combines also both aspects of this middle point. Sacred Sexuality is one of the main aspects and tools that Tantric Shamanism uses to heal\, to connect with the universe and develop the communication with the Supra-Consious and the Supra-Natura. \nIn this retreat we will explore the power\, knowledge and experience of sexual energy\, ritualism\, and embodied shraman practices and where they can take us. The objective is to awake the Tantric Shaman on you in order that you experience but take the basic knowledge to do it afterwards. \nThe entire training is circular\, which means that you can start the selected module at any convenient time in order to expand your knowledge to the next levels. \nPrimal Shamanic Tantric Certification \nA circular-hybrid master training \n \n  \nMost of the times when you take a workshops\, a training or a retreat sin which you are pursuing to go deep or to have a professional or vocational out result it does not accomplish what we are looking for. \nAnand Rudra\, he has being part of an academic arena but also a businessman and personal and political advisor. As part \, of a reality in which you need to have serious studies that can give you a very solid base. He decided with the Be.Tantric team to put together a Certification that leads you to be a master of one of the basic areas of shamanism and tantra; the Primal Stages of both practices and sciences. \nThis training is circular meaning that you can take any of the courses with no previous had taken other one. You do not need to choose the levels. Since the planification is done by Credits or Units. The practitioner level\, the apprentice and the Instructor levels are the 3 stages of this program. \nIf you have already taken courses with Anand in this field in can be compensated them. Each retreat or workshop has a load of curricular content\, theory and practices. We tried to design the courses according the European Academic Bologna requirements . Each certification has requirements to have it\, each event that you course with TrueTantra or Be.Tantric you get a proof of it (diploma). \nIf you are interested in the whole program ask us!! \n \nTRUE TANTRA SCHOOL \nTrue Tantra follows an ancient school methodology in which five tools that are independent\, but at the same time complementary to each other\, are the base of this practice. When you learn Tantra\, you need to see and practice all the aspects that help you to become a professional. \n\nSwahara Yoga (Pranayama Science);\nMeditation (Use of your mental intention and the no-meditation approach);\nAncient Tantra Kriya Yoga; the ritualistic methods of moving energy and meditating (yantras and mantras);\nSacred Sexuality (Sacred Union and Sacred Conscious Touch).\n\nTrue Tantra had become one of the first Tantra institutions within Spain and part of Europe to give a real methodology to a Tantra Session. All those professional efforts have been made in order to build a group of Teachers of Ancient Tantra Kriya Yoga\, Monitors of Ancient Tantra Kriya Yoga\, masseurs\, therapists\, tantra monitors\, and Tantrikas (Docents). Every professional has to pass different oral and practical examinations and renew their knowledge every year\, not only to present what they have learned\, but to acquire more methods and go deeper in the Tantra practice. Every person listed with us has the perfect knowledge of the guidelines\, methods\, ethical values and professionality that True Tantra has conformed to. \n  \nFor this event tickets please follow the next link: \nhttps://tuiteraz.eu/en/workshops/event/1698-awakening-the-power-of-the-tantric-shaman-disrupting-the-path-to-awake-intuition-warsaw \n 
URL:https://truetantra.eu/events-calendar/awakening-the-power-of-the-tantric-shaman-disrupting-the-path-to-awake-intuition
LOCATION:Warsaw\, Poland
ATTACH;FMTTYPE=image/png:https://truetantra.eu/wp-content/uploads/2022/09/life-and-death-celeb-5.png
END:VEVENT
END:VCALENDAR