BEGIN:VCALENDAR
VERSION:2.0
PRODID:-//TRUETANTRA - ECPv6.15.20//NONSGML v1.0//EN
CALSCALE:GREGORIAN
METHOD:PUBLISH
X-ORIGINAL-URL:https://truetantra.eu
X-WR-CALDESC:Events for TRUETANTRA
REFRESH-INTERVAL;VALUE=DURATION:PT1H
X-Robots-Tag:noindex
X-PUBLISHED-TTL:PT1H
BEGIN:VTIMEZONE
TZID:Europe/Madrid
BEGIN:DAYLIGHT
TZOFFSETFROM:+0100
TZOFFSETTO:+0200
TZNAME:CEST
DTSTART:20250330T010000
END:DAYLIGHT
BEGIN:STANDARD
TZOFFSETFROM:+0200
TZOFFSETTO:+0100
TZNAME:CET
DTSTART:20251026T010000
END:STANDARD
BEGIN:DAYLIGHT
TZOFFSETFROM:+0100
TZOFFSETTO:+0200
TZNAME:CEST
DTSTART:20260329T010000
END:DAYLIGHT
BEGIN:STANDARD
TZOFFSETFROM:+0200
TZOFFSETTO:+0100
TZNAME:CET
DTSTART:20261025T010000
END:STANDARD
BEGIN:DAYLIGHT
TZOFFSETFROM:+0100
TZOFFSETTO:+0200
TZNAME:CEST
DTSTART:20270328T010000
END:DAYLIGHT
BEGIN:STANDARD
TZOFFSETFROM:+0200
TZOFFSETTO:+0100
TZNAME:CET
DTSTART:20271031T010000
END:STANDARD
END:VTIMEZONE
BEGIN:VEVENT
DTSTART;TZID=Europe/Madrid:20260601T080000
DTEND;TZID=Europe/Madrid:20260601T170000
DTSTAMP:20260423T122828
CREATED:20260210T215036Z
LAST-MODIFIED:20260309T193615Z
UID:10000213-1780300800-1780333200@truetantra.eu
SUMMARY:Temazcal Of The 4 Doors • Workshop
DESCRIPTION:Temazcal Of The 4 Doors • Workshop\n  \n“Return to the Womb – Die\, Cleanse\, Rebirth\, Walk the New Path” \n– Organized by Anand Rudra & Elaisa Wellness \nJune 1st – Nationaal Parklaan 5\, 3650 Dilsen-Stokkem\, Belgium \nThe Temazcal as Womb\, Temple and Threshold In the prehispanic Mexica worldview\, the Temazcal is not a sweat lodge\, not a therapy\, and not a ritual bath. It is the womb of Mother Earth — Toci / Tonantzin\, the Grandmother who births and devours all forms. \nThe word Temazcalli comes from: \nTemaz: steam\, sacred vapor\, vital breath \nCalli: house\, space\, dwelling \nThe Temazcal is therefore the House of Steam\, where life-force\, memory\, and consciousness are awakened through heat\, darkness\, water\, and prayer. To enter the Temazcal is to return to the origin — to die symbolically so that life may be renewed.
URL:https://truetantra.eu/events-calendar/temazcal-of-the-4-doors-workshop
ATTACH;FMTTYPE=image/png:https://truetantra.eu/wp-content/uploads/2026/03/Anand-flyers-cuadrados-2026-2.png
END:VEVENT
END:VCALENDAR